BEGIN:VCALENDAR
VERSION:2.0
PRODID:-//eventon.com NONSGML v1.0//EN
CALSCALE:GREGORIAN
METHOD:PUBLISH
BEGIN:VEVENT
UID:69e8887a779ca
DTSTAMP:20260422T083610Z
DTSTART:20250115
DTEND:20250116
LOCATION:
SUMMARY:Jugendfeuerwehr HN Frankenbach : UVV Unterweisung Teamspiele
DESCRIPTION:Jugendfeuerwehr HN Frankenbach : UVV Unterweisung Teamspiele\nh
 ttps://ok-frankenbach.de/events/jugendfeuerwehr-hn-frankenbach-uvv-unterwei
 sung-teamspiele/
URL:https://ok-frankenbach.de/events/jugendfeuerwehr-hn-frankenbach-uvv-unterweisung-teamspiele/
END:VEVENT
END:VCALENDAR