BEGIN:VCALENDAR
VERSION:2.0
PRODID:-//eventon.com NONSGML v1.0//EN
CALSCALE:GREGORIAN
METHOD:PUBLISH
BEGIN:VEVENT
UID:69e73829c1120
DTSTAMP:20260421T084113Z
DTSTART:20250725T170000Z
DTEND:20250725T215900Z
LOCATION:evangelisches Gemeindehaus Heinrich-Pfeiffer-Haus Am Rotbach 6
SUMMARY:Serenadenabend mit dem Akkordeonorchester
DESCRIPTION:Akkordeon-Orchester Heilbronn Neckargartach Herzliche Einladung
  zu unserem diesjährigen Serenadenkonzert! Serenadenkonzert am 25.07.2025 
 Das Akkordeon-Orchester Heilbronn Neckargartach spielt am 25.07.2025 ab 19 
 Uhr mit seinem Jugend- und dem Erwachsenenorchester unter der Leitung von S
 ylvia Schiffner ein vielfältiges Programm im Hof des Heinrich Pfeiffer Hau
 ses. Bei schlechtem Wetter findet die Veranstaltung im[..]\nhttps://ok-fran
 kenbach.de/events/serenadenabend-mit-dem-akkordeonorchester/
URL:https://ok-frankenbach.de/events/serenadenabend-mit-dem-akkordeonorchester/
END:VEVENT
END:VCALENDAR