BEGIN:VCALENDAR
VERSION:2.0
PRODID:-//eventon.com NONSGML v1.0//EN
CALSCALE:GREGORIAN
METHOD:PUBLISH
BEGIN:VEVENT
UID:69e74f4d9699f
DTSTAMP:20260421T101957Z
DTSTART:20230820
DTEND:20230821
LOCATION:Gemeindehalle Frankenbach
SUMMARY:Jungtierschau - (Kleintierzuchtverein Frankenbach) Gemeindehalle
DESCRIPTION:Jungtierschau - (Kleintierzuchtverein Frankenbach) Gemeindehall
 e\nhttps://ok-frankenbach.de/events/jungtierschau-kleintierzuchtverein-fran
 kenbach-gemeindehalle/
URL:https://ok-frankenbach.de/events/jungtierschau-kleintierzuchtverein-frankenbach-gemeindehalle/
END:VEVENT
END:VCALENDAR