BEGIN:VCALENDAR
VERSION:2.0
PRODID:-//eventon.com NONSGML v1.0//EN
CALSCALE:GREGORIAN
METHOD:PUBLISH
BEGIN:VEVENT
UID:69e8863a0d0a1
DTSTAMP:20260422T082634Z
DTSTART:20210918T120000Z
DTEND:20210918T140000Z
LOCATION:Gemeindehalle Frankenbach
SUMMARY:Kinderkleiderbörse der SPD Neckargartach-Frankenbach\,  Gemeindehalle
DESCRIPTION:Kinderkleiderbörse der SPD Neckargartach-Frankenbach\,  Gemein
 dehalle\nhttps://ok-frankenbach.de/events/kinderkleiderboerse/
URL:https://ok-frankenbach.de/events/kinderkleiderboerse/
END:VEVENT
END:VCALENDAR