BEGIN:VCALENDAR
VERSION:2.0
PRODID:-//eventon.com NONSGML v1.0//EN
CALSCALE:GREGORIAN
METHOD:PUBLISH
BEGIN:VEVENT
UID:69e5042d1812e
DTSTAMP:20260419T163453Z
DTSTART:20191201T170000Z
DTEND:20191201T225000Z
LOCATION:Katholisches Gemeindezentrum St. Johannes Leintalstraße
SUMMARY:Musikalische Adventsandacht\,  kath. Kirche St. Johannes
DESCRIPTION:Musikalische Adventsandacht\,  kath. Kirche St. Johannes\nhttps
 ://ok-frankenbach.de/events/musikalische-adventsandacht-kath-kirche-st-joha
 nnes/
URL:https://ok-frankenbach.de/events/musikalische-adventsandacht-kath-kirche-st-johannes/
END:VEVENT
END:VCALENDAR