BEGIN:VCALENDAR
VERSION:2.0
PRODID:-//eventon.com NONSGML v1.0//EN
CALSCALE:GREGORIAN
METHOD:PUBLISH
BEGIN:VEVENT
UID:69e4ef0e06880
DTSTAMP:20260419T150446Z
DTSTART:20210815
DTEND:20210816
LOCATION:Gemeindehalle Frankenbach
SUMMARY:Lokalschau - Gemeindehalle (Kleintierzuchtverein Frankenbach)
DESCRIPTION:Lokalschau - Gemeindehalle (Kleintierzuchtverein Frankenbach)\n
 https://ok-frankenbach.de/events/lokalschau-gemeindehalle-kleintierzuchtver
 ein-frankenbach-2/
URL:https://ok-frankenbach.de/events/lokalschau-gemeindehalle-kleintierzuchtverein-frankenbach-2/
END:VEVENT
END:VCALENDAR