BEGIN:VCALENDAR
VERSION:2.0
PRODID:-//eventon.com NONSGML v1.0//EN
CALSCALE:GREGORIAN
METHOD:PUBLISH
BEGIN:VEVENT
UID:69e4d9978d4f5
DTSTAMP:20260419T133311Z
DTSTART:20191214
DTEND:20191215
LOCATION:Neckarhalle\,  Neckargartach
SUMMARY:Kinderweihnachtsfeier - Neckarhalle\,  Neckargartach - SV HN am Leinbach
DESCRIPTION:Kinderweihnachtsfeier - Neckarhalle\,  Neckargartach - SV HN am
  Leinbach\nhttps://ok-frankenbach.de/events/kinderweihnachtsfeier-neckarhal
 le-neckargartach-sv-hn-am-leinbach-2/
URL:https://ok-frankenbach.de/events/kinderweihnachtsfeier-neckarhalle-neckargartach-sv-hn-am-leinbach-2/
END:VEVENT
END:VCALENDAR