BEGIN:VCALENDAR
VERSION:2.0
PRODID:-//eventon.com NONSGML v1.0//EN
CALSCALE:GREGORIAN
METHOD:PUBLISH
BEGIN:VEVENT
UID:69e4c6c0c3985
DTSTAMP:20260419T121248Z
DTSTART:20251213T160000Z
DTEND:20251213T200000Z
LOCATION:Gemeindehalle Frankenbach
SUMMARY:DRK-Weihnachtsmarkt
DESCRIPTION:im Untergeschoß der Gemeindehalle\nhttps://ok-frankenbach.de/e
 vents/drk-weihnachtsmarkt/
URL:https://ok-frankenbach.de/events/drk-weihnachtsmarkt/
END:VEVENT
END:VCALENDAR