BEGIN:VCALENDAR
VERSION:2.0
PRODID:-//eventon.com NONSGML v1.0//EN
CALSCALE:GREGORIAN
METHOD:PUBLISH
BEGIN:VEVENT
UID:69e74d186ffe1
DTSTAMP:20260421T101032Z
DTSTART:20191117T090000Z
DTEND:20191117T225000Z
LOCATION:Evangelische Kirche Frankenbach Kichstraße
SUMMARY:Ökumenischer Friedensgottesdienst\,  Ev. Albankirche
DESCRIPTION:Ökumenischer Friedensgottesdienst\,  Ev. Albankirche\nhttps://
 ok-frankenbach.de/events/oekumenischer-friedensgottesdienst-ev-albankirche/
URL:https://ok-frankenbach.de/events/oekumenischer-friedensgottesdienst-ev-albankirche/
END:VEVENT
END:VCALENDAR