BEGIN:VCALENDAR
VERSION:2.0
PRODID:-//eventon.com NONSGML v1.0//EN
CALSCALE:GREGORIAN
METHOD:PUBLISH
BEGIN:VEVENT
UID:69e89e3cb3538
DTSTAMP:20260422T100900Z
DTSTART:20180222
DTEND:20180223
LOCATION:
SUMMARY:Zumba® Fitness (Kurs)
DESCRIPTION:Zumba® Fitness (Kurs)\nhttps://ok-frankenbach.de/events/zumba-
 fitness-kurs/
URL:https://ok-frankenbach.de/events/zumba-fitness-kurs/
END:VEVENT
END:VCALENDAR