BEGIN:VCALENDAR
VERSION:2.0
PRODID:-//eventon.com NONSGML v1.0//EN
CALSCALE:GREGORIAN
METHOD:PUBLISH
BEGIN:VEVENT
UID:69e89db0cd7e5
DTSTAMP:20260422T100640Z
DTSTART:20180302
DTEND:20180303
LOCATION:
SUMMARY:Programmieren mit Scratch Teil 1 für Jugendliche (Kurs)
DESCRIPTION:Programmieren mit Scratch Teil 1 für Jugendliche (Kurs)\nhttps
 ://ok-frankenbach.de/events/programmieren-mit-scratch-teil-1-fuer-jugendlic
 he-kurs/
URL:https://ok-frankenbach.de/events/programmieren-mit-scratch-teil-1-fuer-jugendliche-kurs/
END:VEVENT
END:VCALENDAR