BEGIN:VCALENDAR
VERSION:2.0
PRODID:-//eventon.com NONSGML v1.0//EN
CALSCALE:GREGORIAN
METHOD:PUBLISH
BEGIN:VEVENT
UID:69e89bef8d9af
DTSTAMP:20260422T095911Z
DTSTART:20180302
DTEND:20180303
LOCATION:
SUMMARY:Englisch für Anfänger A1.1 (Kurs)
DESCRIPTION:Englisch für Anfänger A1.1 (Kurs)\nhttps://ok-frankenbach.de/
 events/englisch-fuer-anfaenger-a1-1-kurs/
URL:https://ok-frankenbach.de/events/englisch-fuer-anfaenger-a1-1-kurs/
END:VEVENT
END:VCALENDAR