BEGIN:VCALENDAR
VERSION:2.0
PRODID:-//eventon.com NONSGML v1.0//EN
CALSCALE:GREGORIAN
METHOD:PUBLISH
BEGIN:VEVENT
UID:69e8b013dcca7
DTSTAMP:20260422T112507Z
DTSTART:20180305T180000Z
DTEND:20180305T201500Z
LOCATION:
SUMMARY:Basenfasten (Kurs)
DESCRIPTION:Basenfasten (Kurs)\nhttps://ok-frankenbach.de/events/basenfaste
 n/
URL:https://ok-frankenbach.de/events/basenfasten/
END:VEVENT
END:VCALENDAR