BEGIN:VCALENDAR
VERSION:2.0
PRODID:-//eventon.com NONSGML v1.0//EN
CALSCALE:GREGORIAN
METHOD:PUBLISH
BEGIN:VEVENT
UID:69e8c58951bbe
DTSTAMP:20260422T125641Z
DTSTART:20180320
DTEND:20180321
LOCATION:
SUMMARY:Patientenverfügung und Gesundheitsvollmacht (Kurs)
DESCRIPTION:Patientenverfügung und Gesundheitsvollmacht (Kurs)\nhttps://ok
 -frankenbach.de/events/patientenverfuegung-und-gesundheitsvollmacht/
URL:https://ok-frankenbach.de/events/patientenverfuegung-und-gesundheitsvollmacht/
END:VEVENT
END:VCALENDAR