BEGIN:VCALENDAR
VERSION:2.0
PRODID:-//eventon.com NONSGML v1.0//EN
CALSCALE:GREGORIAN
METHOD:PUBLISH
BEGIN:VEVENT
UID:69e4df21461b2
DTSTAMP:20260419T135649Z
DTSTART:20180514
DTEND:20180515
LOCATION:
SUMMARY:Grundkurs Nähen II
DESCRIPTION:Grundkurs Nähen II\nhttps://ok-frankenbach.de/events/grundkurs
 -naehen-2/
URL:https://ok-frankenbach.de/events/grundkurs-naehen-2/
END:VEVENT
END:VCALENDAR