BEGIN:VCALENDAR
VERSION:2.0
PRODID:-//eventon.com NONSGML v1.0//EN
CALSCALE:GREGORIAN
METHOD:PUBLISH
BEGIN:VEVENT
UID:69e888e399bfe
DTSTAMP:20260422T083755Z
DTSTART:20190818
DTEND:20190819
LOCATION:Gemeindehalle Frankenbach
SUMMARY:Jungtierschau - Gemeindehalle / “Kärwewochenende”
DESCRIPTION:Jungtierschau - Gemeindehalle / “Kärwewochenende”\nhttps:/
 /ok-frankenbach.de/events/jungtierschau/
URL:https://ok-frankenbach.de/events/jungtierschau/
END:VEVENT
END:VCALENDAR