BEGIN:VCALENDAR
VERSION:2.0
PRODID:-//eventon.com NONSGML v1.0//EN
CALSCALE:GREGORIAN
METHOD:PUBLISH
BEGIN:VEVENT
UID:69e89c147c365
DTSTAMP:20260422T095948Z
DTSTART:20191023
DTEND:20191024
LOCATION:Gemeindehalle Frankenbach
SUMMARY:Blutspenden in Frankenbach - Gemeindehalle
DESCRIPTION:Blutspenden in Frankenbach - Gemeindehalle\nhttps://ok-frankenb
 ach.de/events/blutspenden-in-frankenbach-gemeindehalle/
URL:https://ok-frankenbach.de/events/blutspenden-in-frankenbach-gemeindehalle/
END:VEVENT
END:VCALENDAR