BEGIN:VCALENDAR
VERSION:2.0
PRODID:-//eventon.com NONSGML v1.0//EN
CALSCALE:GREGORIAN
METHOD:PUBLISH
BEGIN:VEVENT
UID:69e8adb54ba49
DTSTAMP:20260422T111501Z
DTSTART:20180805
DTEND:20180806
LOCATION:
SUMMARY:Gottesdienst im Wertwiesenpark
DESCRIPTION:Gottesdienst im Wertwiesenpark\nhttps://ok-frankenbach.de/event
 s/gottesdienst-im-wertwiesenpark/
URL:https://ok-frankenbach.de/events/gottesdienst-im-wertwiesenpark/
END:VEVENT
END:VCALENDAR