BEGIN:VCALENDAR
VERSION:2.0
PRODID:-//eventon.com NONSGML v1.0//EN
CALSCALE:GREGORIAN
METHOD:PUBLISH
BEGIN:VEVENT
UID:69e8d80582e69
DTSTAMP:20260422T141533Z
DTSTART:20180722
DTEND:20180723
LOCATION:Friedenskirche der Evangelisch-methodistische Kirche Heilbronn Burgundenstraße 62\,  74078 Heilbronn
SUMMARY:Sommerfest - Friedenskirche
DESCRIPTION:Sommerfest - Friedenskirche\nhttps://ok-frankenbach.de/events/s
 ommerfest-friedenskirche/
URL:https://ok-frankenbach.de/events/sommerfest-friedenskirche/
END:VEVENT
END:VCALENDAR