BEGIN:VCALENDAR
VERSION:2.0
PRODID:-//eventon.com NONSGML v1.0//EN
CALSCALE:GREGORIAN
METHOD:PUBLISH
BEGIN:VEVENT
UID:69e4dbed3b10e
DTSTAMP:20260419T134309Z
DTSTART:20180522
DTEND:20180523
LOCATION:
SUMMARY:Blutspenden in Biberach - Böllingertalhalle
DESCRIPTION:Blutspenden in Biberach - Böllingertalhalle\nhttps://ok-franke
 nbach.de/events/blutspenden-in-biberach-boellingertalhalle/
URL:https://ok-frankenbach.de/events/blutspenden-in-biberach-boellingertalhalle/
END:VEVENT
END:VCALENDAR