BEGIN:VCALENDAR
VERSION:2.0
PRODID:-//eventon.com NONSGML v1.0//EN
CALSCALE:GREGORIAN
METHOD:PUBLISH
BEGIN:VEVENT
UID:69e8af879242c
DTSTAMP:20260422T112247Z
DTSTART:20180318
DTEND:20180319
LOCATION:Friedenskirche der Evangelisch-methodistische Kirche Heilbronn Burgundenstraße 62\,  74078 Heilbronn
SUMMARY:Kaffeeklatsch - Friedenskirche\,  UG
DESCRIPTION:Kaffeeklatsch - Friedenskirche\,  UG\nhttps://ok-frankenbach.de
 /events/kaffeeklatsch-friedenskirche-ug-3/
URL:https://ok-frankenbach.de/events/kaffeeklatsch-friedenskirche-ug-3/
END:VEVENT
END:VCALENDAR