BEGIN:VCALENDAR
VERSION:2.0
PRODID:-//eventon.com NONSGML v1.0//EN
CALSCALE:GREGORIAN
METHOD:PUBLISH
BEGIN:VEVENT
UID:69e899d53b2e7
DTSTAMP:20260422T095013Z
DTSTART:20260425
DTEND:20260426
LOCATION:MCC Gelände Leintalstraße 99\,  74078 HN-Frankenbach
SUMMARY:DJMV Lauf - MCC-Frankenbach
DESCRIPTION:www.mccfrankenbach.de\nhttps://ok-frankenbach.de/events/motocro
 ss-club-rennen-djmv-mcc-gelaende/
URL:https://ok-frankenbach.de/events/motocross-club-rennen-djmv-mcc-gelaende/
END:VEVENT
END:VCALENDAR