BEGIN:VCALENDAR
VERSION:2.0
PRODID:-//eventon.com NONSGML v1.0//EN
CALSCALE:GREGORIAN
METHOD:PUBLISH
BEGIN:VEVENT
UID:69e88678667f0
DTSTAMP:20260422T082736Z
DTSTART:20190430T160000Z
DTEND:20190430T215000Z
LOCATION:Besen Drautz in Neckargartach Rainlesstraße 14\,  74078 HN-Neckargartach
SUMMARY:Maifeier der SPD Neckargartach-Frankenbach
DESCRIPTION:Weinstube Drautz Rainlesstraße 14 74078 Heilbronn\nhttps://ok-
 frankenbach.de/events/maifeier-der-spd-neckargartach-frankenbach/
URL:https://ok-frankenbach.de/events/maifeier-der-spd-neckargartach-frankenbach/
END:VEVENT
END:VCALENDAR