BEGIN:VCALENDAR
VERSION:2.0
PRODID:-//eventon.com NONSGML v1.0//EN
CALSCALE:GREGORIAN
METHOD:PUBLISH
BEGIN:VEVENT
UID:69e8b070a8a85
DTSTAMP:20260422T112640Z
DTSTART:20260313T180000Z
DTEND:20260313T225900Z
LOCATION:Gemeindehalle Frankenbach
SUMMARY:Obst- und Gartenbauverein Frankenbach - Hauptversammlung\,  Gemeindehalle\,  19.00 Uhr
DESCRIPTION:Obst- und Gartenbauverein Frankenbach - Hauptversammlung\,  Gem
 eindehalle\,  19.00 Uhr\nhttps://ok-frankenbach.de/events/obst-und-gartenba
 uverein-frankenbach-hauptversammlung-gemeindehalle-19-00-uhr/
URL:https://ok-frankenbach.de/events/obst-und-gartenbauverein-frankenbach-hauptversammlung-gemeindehalle-19-00-uhr/
END:VEVENT
END:VCALENDAR