BEGIN:VCALENDAR
VERSION:2.0
PRODID:-//eventon.com NONSGML v1.0//EN
CALSCALE:GREGORIAN
METHOD:PUBLISH
BEGIN:VEVENT
UID:69e74b714a765
DTSTAMP:20260421T100329Z
DTSTART:20180710T180000Z
DTEND:20180710T215000Z
LOCATION:
SUMMARY:DRK-Dienstabend 20.00 Uhr im UG der Gemeindehalle
DESCRIPTION:DRK-Dienstabend 20.00 Uhr im UG der Gemeindehalle\nhttps://ok-f
 rankenbach.de/events/drk-dienstabend-20-00-uhr-im-ug-der-gemeindehalle-7/
URL:https://ok-frankenbach.de/events/drk-dienstabend-20-00-uhr-im-ug-der-gemeindehalle-7/
END:VEVENT
END:VCALENDAR