BEGIN:VCALENDAR
VERSION:2.0
PRODID:-//eventon.com NONSGML v1.0//EN
CALSCALE:GREGORIAN
METHOD:PUBLISH
BEGIN:VEVENT
UID:69e75fd168dd1
DTSTAMP:20260421T113025Z
DTSTART:20180612T180000Z
DTEND:20180612T215000Z
LOCATION:
SUMMARY:DRK-Dienstabend 20.00 Uhr im UG der Gemeindehalle
DESCRIPTION:DRK-Dienstabend 20.00 Uhr im UG der Gemeindehalle\nhttps://ok-f
 rankenbach.de/events/drk-dienstabend-20-00-uhr-im-ug-der-gemeindehalle-6/
URL:https://ok-frankenbach.de/events/drk-dienstabend-20-00-uhr-im-ug-der-gemeindehalle-6/
END:VEVENT
END:VCALENDAR